BEGIN:VCALENDAR
VERSION:2.0
PRODID:-//Grallert - ECPv6.15.20//NONSGML v1.0//EN
CALSCALE:GREGORIAN
METHOD:PUBLISH
X-ORIGINAL-URL:https://www.grallert.at
X-WR-CALDESC:Veranstaltungen für Grallert
REFRESH-INTERVAL;VALUE=DURATION:PT1H
X-Robots-Tag:noindex
X-PUBLISHED-TTL:PT1H
BEGIN:VTIMEZONE
TZID:Europe/Berlin
BEGIN:DAYLIGHT
TZOFFSETFROM:+0100
TZOFFSETTO:+0200
TZNAME:CEST
DTSTART:20220327T010000
END:DAYLIGHT
BEGIN:STANDARD
TZOFFSETFROM:+0200
TZOFFSETTO:+0100
TZNAME:CET
DTSTART:20221030T010000
END:STANDARD
BEGIN:DAYLIGHT
TZOFFSETFROM:+0100
TZOFFSETTO:+0200
TZNAME:CEST
DTSTART:20230326T010000
END:DAYLIGHT
BEGIN:STANDARD
TZOFFSETFROM:+0200
TZOFFSETTO:+0100
TZNAME:CET
DTSTART:20231029T010000
END:STANDARD
BEGIN:DAYLIGHT
TZOFFSETFROM:+0100
TZOFFSETTO:+0200
TZNAME:CEST
DTSTART:20240331T010000
END:DAYLIGHT
BEGIN:STANDARD
TZOFFSETFROM:+0200
TZOFFSETTO:+0100
TZNAME:CET
DTSTART:20241027T010000
END:STANDARD
END:VTIMEZONE
BEGIN:VEVENT
DTSTART;VALUE=DATE:20230327
DTEND;VALUE=DATE:20230501
DTSTAMP:20260423T025148
CREATED:20230327T145523Z
LAST-MODIFIED:20230327T150018Z
UID:8544-1679875200-1682899199@www.grallert.at
SUMMARY:Totalabverkauf bei Catwalk Stories
DESCRIPTION:Totalabverkauf bei Catwalk Stories!!! \nWenn unser Lieblings-Kidsstore-Totalabverkauf hat\, spielen die Preise verrückt. Bis zu 70% gibts auf die coolsten Teile im Online-Shop und im Laden. Wer sich diese Schnäppchen entgehen lässt\, der ist….;-) \nFür alle\, die selbst Kleider\, Hosen\, Schuhe\, T-Shirts\, Hoodies und Sportgeräte probieren wollen\, Catwalk Stories ist direkt vor dem Neutor. Unsere Staff von Paw Patrol\, über die Elsa bis zum Weihnachtsmann waren schon alle im coolen Laden und jetzt sind sie fast ein wenig eifersüchtig auf den Osterhasen\, dass er jetzt alle Rabatte in sein Nesterl packen kann\, aber egal kommt ja euch zugute. \nDie liebe Nadine sucht eifrig eine/n Nachfolger/in für ihr geniales Kindergeschäft. In ihrem Store ist wirklich alles vereint\, was dir einen super leichten Start ins Unternehmertum in der Kids-Fashionbranche erleichtert. Du bist interessiert\, dann ruf sie an. Call Nadine \nUnd für alle Schnäppchenjäger\, bei Catwalk Stories frisst die Maus der Katz gerade den Käse weg\, so genial sind die Angebote. \nWir sind so gespannt wie’s weiter geht mir all den Catwalker da draußen\, hatten wir doch immer die coolsten gemeinsamen Events. \nGerade unser Johnny durfte euch das Skateboarden zeigen und so manche kleine Kundschaft zählt heute zu unserer Community und übt fleißig bei unseren Workshops. \nTotalabverkauf bei Catwalk Stories – the place to be \n 
URL:https://www.grallert.at/event/totalabverkauf-bei-catwalk-stories/
LOCATION:Catwalk Stories\, Hildmannplatz 1a\, Salzburg\, 5020\, Österreich
ATTACH;FMTTYPE=image/jpeg:https://www.grallert.at/wp-content/uploads/2023/03/Catwalkstorie-Abverkauf.jpg
END:VEVENT
BEGIN:VEVENT
DTSTART;TZID=Europe/Berlin:20230414T140000
DTEND;TZID=Europe/Berlin:20230415T170000
DTSTAMP:20260423T025148
CREATED:20230407T072659Z
LAST-MODIFIED:20230407T094432Z
UID:7990-1681480800-1681578000@www.grallert.at
SUMMARY:45 Jahre Ebster
DESCRIPTION:45 Jahre Ebster – gefeiert wird im großen Stil! \nAm Freitag von 14:00 – 18:00 und am Samstag von 08:30 – 17:00 Uhr findet beim Ebster Gartenzenter das 45-jährige Jubiläum statt\, wir sind für euch dabei! \nFür das leibliche Wohl sorgen die Grillmeister von Napolenon und Weber und zusätzliche gibst noch leckeres Fingerfood. \nUnd natürlich denkt Ebster an die ganze Familie. Die kleinen Festbesucherinnen können sich auf der Hupfburg austoben und für die Schleckermäulchen gibts Popcorn und Zuckerwatte. \nAm Glücksmomentestand entstehen lustige Kinderschmink-Gesichter. Wir sind schon sehr gespannt\, ob dann mehr Löwen oder Einhörer durch den Markt flitzen. \nWer Lust hat holt sich bei uns ein Glitzertattoo\, denn wir sind davon überzeugt es braucht mehr Glitzer in Zell am See. \nAlso\, lass dich von uns in ein magisches Zebra\, eine zauberhafte Fee oder einen wilden Tiger verwandeln. Beim Kinderschminken sind wir die Profis und deiner Fantasie sind keine Grenzen gesetzt. \nDu willst noch mehr? Dann ist unser Tipp – Glitzer\, Glitzer und noch mehr Glitzer\, unsere tollen Glitzertattoos verschönern dich und vielleicht auch deinen Papa. Die Kinderschminke lässt sich nach einem langen Tag am Abend ganz einfach mit etwas Seife abwaschen und die Tattoos halten dann vielleicht noch bis ihr wieder in die Schule oder den Kindergarten geht. Aber keine Sorge\, Mamas und Papas\, mit etwas Öligem könnt ihr die kleine Freudemache jederzeit leicht entfernen! \nErzähl‘ allen deinen Freunden davon und komm mit deiner ganzen Familie! Wir freuen uns über euer zahlreiches Erscheinen & euren Besuch beim Ebster Jubiläumsfest .
URL:https://www.grallert.at/event/45jahre-ebster/
LOCATION:Baumarkt und Gartencenter Ebster GmbH\, Kaprunerstr. 2\, Zell am See\, Salzburg\, 5700\, Österreich
ATTACH;FMTTYPE=image/jpeg:https://www.grallert.at/wp-content/uploads/2022/08/Ebster.jpg
ORGANIZER;CN="Baumarkt und Gartencenter Ebster GmbH":MAILTO:info@baumarkt-ebster.at
END:VEVENT
END:VCALENDAR