BEGIN:VCALENDAR
VERSION:2.0
PRODID:-//Grallert - ECPv6.15.20//NONSGML v1.0//EN
CALSCALE:GREGORIAN
METHOD:PUBLISH
X-ORIGINAL-URL:https://www.grallert.at
X-WR-CALDESC:Veranstaltungen für Grallert
REFRESH-INTERVAL;VALUE=DURATION:PT1H
X-Robots-Tag:noindex
X-PUBLISHED-TTL:PT1H
BEGIN:VTIMEZONE
TZID:Europe/Berlin
BEGIN:DAYLIGHT
TZOFFSETFROM:+0100
TZOFFSETTO:+0200
TZNAME:CEST
DTSTART:20230326T010000
END:DAYLIGHT
BEGIN:STANDARD
TZOFFSETFROM:+0200
TZOFFSETTO:+0100
TZNAME:CET
DTSTART:20231029T010000
END:STANDARD
BEGIN:DAYLIGHT
TZOFFSETFROM:+0100
TZOFFSETTO:+0200
TZNAME:CEST
DTSTART:20240331T010000
END:DAYLIGHT
BEGIN:STANDARD
TZOFFSETFROM:+0200
TZOFFSETTO:+0100
TZNAME:CET
DTSTART:20241027T010000
END:STANDARD
BEGIN:DAYLIGHT
TZOFFSETFROM:+0100
TZOFFSETTO:+0200
TZNAME:CEST
DTSTART:20250330T010000
END:DAYLIGHT
BEGIN:STANDARD
TZOFFSETFROM:+0200
TZOFFSETTO:+0100
TZNAME:CET
DTSTART:20251026T010000
END:STANDARD
END:VTIMEZONE
BEGIN:VEVENT
DTSTART;TZID=Europe/Berlin:20240721T110000
DTEND;TZID=Europe/Berlin:20240721T150000
DTSTAMP:20260419T181613
CREATED:20240709T122929Z
LAST-MODIFIED:20240709T123004Z
UID:8781-1721559600-1721574000@www.grallert.at
SUMMARY:Leoganger Kinderfest
DESCRIPTION:  \nErleben Sie als ganze Familie einen Tag voller Spaß und Abenteuer beim großen Kinderfest an der Mittelstation am Asitz in Leogang!  \nAm Sonntag\, den 21. Juli 2024\, von 11:00 bis 15:00 Uhr erwartet Sie und Ihre Familie ein abwechslungsreiches Programm\, das Kinderherzen höher schlagen lässt. \nUnser Programm bietet für jede Altersgruppe spannende Aktivitäten: \n– Kinderschminken und Glitzertattoos: Lasst eure  Gesichter in fantasievolle Kunstwerke verwandeln.\n– Entenfischen im Planschbecken: Spannender Spaß beim Angeln nach kleinen Entenfiguren.\n– Dosenwerfen: Zeigt eure Treffsicherheit und gewinnt tolle Preise.\n– Riesenseifenblasen und Luftballontiere: Staunt über zauberhafte Seifenblasen und kreative Ballonfiguren.\n– Hüpfburg: Toben und springen bis zum Umfallen – die Hüpfburg sorgt für grenzenlosen Spaß. \nFür das leibliche Wohl sorgt die STÖCKLALM mit einer Auswahl an leckeren Speisen und Getränken. Genießen Sie kulinarische Spezialitäten\, während Ihre Kinder sich austoben. \nWichtige Informationen im Überblick \n– Eintritt frei!\n– Kostenlose Seilbahnnutzung mit der Saalfelden Leogang Card. Ohne diese Karte ist ein Seilbahnticket erforderlich.\n– Schlechtwetter: Bei schlechtem Wetter muss das Fest leider abgesagt werden.\n– Haftung: Für Unfälle jeglicher Art wird keine Haftung übernommen – Eltern haften für ihre Kinder. \nVerbringen Sie einen unvergesslichen Tag mit Ihrer ganzen Familie und genießen Sie das vielseitige Programm unseres Kinderfests. Wir freuen uns auf euren Besuch. \nMarkiert euch den 21. Juli in Ihrem Kalender und kommt zum großen Kinderfest an der Mittelstation am Asitz in Leogang – ein Tag voller Spaß\, Abenteuer und unvergesslicher Erlebnisse wartet auf Sie!
URL:https://www.grallert.at/event/8781/
ATTACH;FMTTYPE=image/jpeg:https://www.grallert.at/wp-content/uploads/2024/07/Bild.jpeg
END:VEVENT
END:VCALENDAR