BEGIN:VCALENDAR
VERSION:2.0
PRODID:-//Grallert - ECPv6.15.20//NONSGML v1.0//EN
CALSCALE:GREGORIAN
METHOD:PUBLISH
X-ORIGINAL-URL:https://www.grallert.at
X-WR-CALDESC:Veranstaltungen für Grallert
REFRESH-INTERVAL;VALUE=DURATION:PT1H
X-Robots-Tag:noindex
X-PUBLISHED-TTL:PT1H
BEGIN:VTIMEZONE
TZID:Europe/Berlin
BEGIN:DAYLIGHT
TZOFFSETFROM:+0100
TZOFFSETTO:+0200
TZNAME:CEST
DTSTART:20230326T010000
END:DAYLIGHT
BEGIN:STANDARD
TZOFFSETFROM:+0200
TZOFFSETTO:+0100
TZNAME:CET
DTSTART:20231029T010000
END:STANDARD
BEGIN:DAYLIGHT
TZOFFSETFROM:+0100
TZOFFSETTO:+0200
TZNAME:CEST
DTSTART:20240331T010000
END:DAYLIGHT
BEGIN:STANDARD
TZOFFSETFROM:+0200
TZOFFSETTO:+0100
TZNAME:CET
DTSTART:20241027T010000
END:STANDARD
BEGIN:DAYLIGHT
TZOFFSETFROM:+0100
TZOFFSETTO:+0200
TZNAME:CEST
DTSTART:20250330T010000
END:DAYLIGHT
BEGIN:STANDARD
TZOFFSETFROM:+0200
TZOFFSETTO:+0100
TZNAME:CET
DTSTART:20251026T010000
END:STANDARD
END:VTIMEZONE
BEGIN:VEVENT
DTSTART;TZID=Europe/Berlin:20240907T120000
DTEND;TZID=Europe/Berlin:20240907T180000
DTSTAMP:20260421T113742
CREATED:20240709T082433Z
LAST-MODIFIED:20240709T085819Z
UID:8764-1725710400-1725732000@www.grallert.at
SUMMARY:Tag des Sports
DESCRIPTION:Salzburgs Open-Air-Sportveranstaltung für Groß und Klein startet in die nächste Runde. \nAm Samstag den 7. September 2024 von 12-18 Uhr können Kinder\, Jugendliche und Erwachsene\nneue Sportarten kennenlernen\, die Vielfalt des Angebots auskosten und so\nvielleicht versteckte Talente und Leidenschaften in sich selbst entdecken. \nDer Tag des Sports dient sozusagen zum Erstkontakt zu den Sportarten\, die man vielleicht noch gar nicht richtig am Schirm hat. Zudem bietet sich da die Möglichkeit\, Sport-Stars zu erleben\, deren sportliche Leistungen man normalerweise nur am TV verfolgen kann. \nVor Ort findet ihr uns auch dieses Jahr mit unseren Tryoutangeboten der Roll- und Trendsporthalle. \nMit einer Auswahl von Skateboarden\, Inline\, BMX und Scooter können sich Jung und Alt auf den Sportgeräten ausprobieren und Erfahrungen sammeln. Durch mobile Skaterampen und abwechslungsreiche Skateparcours ist für jede und jeden etwas dabei. Wir freuen uns auch dieses Jahr auf neue und bekannte Gesichter. \nMehr Infos erhalten Sie hier
URL:https://www.grallert.at/event/tag-des-sports/
LOCATION:Altstadt Salzburg\, Residenzplatz\, Salzburg\, Salzburg\, 5020\, Österreich
ATTACH;FMTTYPE=image/jpeg:https://www.grallert.at/wp-content/uploads/2024/07/63EBFF4D-275A-434C-ADFC-09DA58A5D9DC.jpeg
END:VEVENT
END:VCALENDAR