BEGIN:VCALENDAR
VERSION:2.0
PRODID:-//Grallert - ECPv6.15.20//NONSGML v1.0//EN
CALSCALE:GREGORIAN
METHOD:PUBLISH
X-ORIGINAL-URL:https://www.grallert.at
X-WR-CALDESC:Veranstaltungen für Grallert
REFRESH-INTERVAL;VALUE=DURATION:PT1H
X-Robots-Tag:noindex
X-PUBLISHED-TTL:PT1H
BEGIN:VTIMEZONE
TZID:Europe/Berlin
BEGIN:DAYLIGHT
TZOFFSETFROM:+0100
TZOFFSETTO:+0200
TZNAME:CEST
DTSTART:20210328T010000
END:DAYLIGHT
BEGIN:STANDARD
TZOFFSETFROM:+0200
TZOFFSETTO:+0100
TZNAME:CET
DTSTART:20211031T010000
END:STANDARD
BEGIN:DAYLIGHT
TZOFFSETFROM:+0100
TZOFFSETTO:+0200
TZNAME:CEST
DTSTART:20220327T010000
END:DAYLIGHT
BEGIN:STANDARD
TZOFFSETFROM:+0200
TZOFFSETTO:+0100
TZNAME:CET
DTSTART:20221030T010000
END:STANDARD
BEGIN:DAYLIGHT
TZOFFSETFROM:+0100
TZOFFSETTO:+0200
TZNAME:CEST
DTSTART:20230326T010000
END:DAYLIGHT
BEGIN:STANDARD
TZOFFSETFROM:+0200
TZOFFSETTO:+0100
TZNAME:CET
DTSTART:20231029T010000
END:STANDARD
END:VTIMEZONE
BEGIN:VEVENT
DTSTART;TZID=Europe/Berlin:20221008T100000
DTEND;TZID=Europe/Berlin:20221008T170000
DTSTAMP:20260425T041008
CREATED:20220928T084238Z
LAST-MODIFIED:20220928T124523Z
UID:8213-1665223200-1665248400@www.grallert.at
SUMMARY:Kinderfestival: Pop-Up Markt für Familien und Kinder
DESCRIPTION:Kinderfestival: Pop-Up Markt für Familien und Kinder \nBesuch Catwalk Stories am Samstag\, 08. Oktober 2022 von 10:00 – 17:00 Uhr am Kinderfestival: \nDer Pop-Up Markt für Familien und Kinder in der Eventalm in Salzburg. \nShoppe direkt auf der Pop-Up Messe bei 30 lokal\, trendigen und handmade Labels und informiere dich bei Dienstleistern rund um die Themen Schwangerschaft\, Baby\, Kind und Familie. \nVor Ort gibt es auch Workshops\, wie Schmuck basteln\, Glitzertattoos und mehr. Das Workshop Programm findest du ab Mitte September auf unseren Social Media Kanälen vom Kinderfestial und die Workshops können direkt vor Ort gebucht werden. \nErstklassige Aussteller*innen\, Tombolapreise\, Kindersackerl\, Mombags\, Workshops\, leckere Food-Trucks und natürlich ganz viel Konfetti und Ballons warten auf euch! \nSei schnell und sichere dir hier deine Tickets für dich und deine ganze Familie! \nWir freuen uns auf zahlreiche glückliche Kindergesichter! \n 
URL:https://www.grallert.at/event/kinderfestival-pop-up-markt-fuer-familien-und-kinder/
LOCATION:Eventalm Salzburg\, Söllheimer Str. 16\, Salzburg\, 5101
ATTACH;FMTTYPE=image/jpeg:https://www.grallert.at/wp-content/uploads/2022/09/Pop-Up-Markt.jpg
ORGANIZER;CN="Herzmomente":MAILTO:kinderfestival@herzmomente.at
END:VEVENT
END:VCALENDAR